BEGIN:VCALENDAR
VERSION:2.0
PRODID:-//Klimaschutzportal - ECPv6.15.20//NONSGML v1.0//EN
CALSCALE:GREGORIAN
METHOD:PUBLISH
X-WR-CALNAME:Klimaschutzportal
X-ORIGINAL-URL:https://klimaschutz-landkreis-neumarkt.de
X-WR-CALDESC:Veranstaltungen für Klimaschutzportal
REFRESH-INTERVAL;VALUE=DURATION:PT1H
X-Robots-Tag:noindex
X-PUBLISHED-TTL:PT1H
BEGIN:VTIMEZONE
TZID:Europe/Berlin
BEGIN:DAYLIGHT
TZOFFSETFROM:+0100
TZOFFSETTO:+0200
TZNAME:CEST
DTSTART:20210328T010000
END:DAYLIGHT
BEGIN:STANDARD
TZOFFSETFROM:+0200
TZOFFSETTO:+0100
TZNAME:CET
DTSTART:20211031T010000
END:STANDARD
BEGIN:DAYLIGHT
TZOFFSETFROM:+0100
TZOFFSETTO:+0200
TZNAME:CEST
DTSTART:20220327T010000
END:DAYLIGHT
BEGIN:STANDARD
TZOFFSETFROM:+0200
TZOFFSETTO:+0100
TZNAME:CET
DTSTART:20221030T010000
END:STANDARD
BEGIN:DAYLIGHT
TZOFFSETFROM:+0100
TZOFFSETTO:+0200
TZNAME:CEST
DTSTART:20230326T010000
END:DAYLIGHT
BEGIN:STANDARD
TZOFFSETFROM:+0200
TZOFFSETTO:+0100
TZNAME:CET
DTSTART:20231029T010000
END:STANDARD
BEGIN:DAYLIGHT
TZOFFSETFROM:+0100
TZOFFSETTO:+0200
TZNAME:CEST
DTSTART:20240331T010000
END:DAYLIGHT
BEGIN:STANDARD
TZOFFSETFROM:+0200
TZOFFSETTO:+0100
TZNAME:CET
DTSTART:20241027T010000
END:STANDARD
END:VTIMEZONE
BEGIN:VEVENT
DTSTART;TZID=Europe/Berlin:20230320T200000
DTEND;TZID=Europe/Berlin:20230320T213000
DTSTAMP:20260423T061241
CREATED:20230217T150257Z
LAST-MODIFIED:20230217T150257Z
UID:3715-1679342400-1679347800@klimaschutz-landkreis-neumarkt.de
SUMMARY:Fördermittel für Sanierung und Neubau. Das ändert sich 2023 für Sie!
DESCRIPTION:Planen Sie mit Maßnahmen wie Heizungsoptimierung\, Wärmedämmung\, der Nutzung von erneuerbaren Energien oder der Sanierung zu einem Effizienzhaus den Energieverbrauch ihrer Immobilie zu senken und so maßgeblich zum Klimaschutz beizutragen? In welcher Höhe Sie Fördermittel im Rahmen der Bundesförderung für effiziente Gebäude (BEG) als Zuschussvariante oder als vergünstigtes Darlehen beantragen können\, erläutert Ihnen Matthias Obermeier\, langjähriger Energieberater des VerbraucherService Bayern. Er informiert über die Änderungen der BEG zu Beginn des Jahres\, erklärt\, was Sie bei der Beantragung beachten müssen\, und veranschaulicht die möglichen Förderungen an Rechenbeispielen. Der Vortrag ist für Haus- und Wohnungsbesitzer geeignet. Grundkenntnisse sind nicht erforderlich.
URL:https://klimaschutz-landkreis-neumarkt.de/veranstaltung/foerdermittel-fuer-sanierung-und-neubau-das-aendert-sich-2023-fuer-sie/
LOCATION:Online
END:VEVENT
BEGIN:VEVENT
DTSTART;TZID=Europe/Berlin:20230317T140000
DTEND;TZID=Europe/Berlin:20230317T150000
DTSTAMP:20260423T061241
CREATED:20230217T121412Z
LAST-MODIFIED:20230217T121412Z
UID:3707-1679061600-1679065200@klimaschutz-landkreis-neumarkt.de
SUMMARY:Aktuelle Fragen rund um Energie(liefer)verträge und -rechnungen
DESCRIPTION:Strom\, Gas\, Heizöl – die Kosten für Energie belasten deutsche Haushalte immer stärker. Gegen steigende Preise am Energiemarkt können Verbraucher zwar wenig tun; dennoch gehen viele Anbieter mit Preiserhöhungen\, Abschlagszahlungen und Rechnungen nicht gerade transparent und häufig auch rechtswidrig vor. Und auch beim Vertragswechsel erleben Verbraucher immer wieder böse Überraschungen. Hier lohnt es sich\, einen genaueren Blick auf die konkrete Angebots- und Vertragsgestaltung des eigenen Anbieters zu werfen und Preisänderungen / Abrechnungen nicht einfach ungeprüft hinzunehmen. Der Vortrag zeigt auf\, welche Vorschriften Energieversorger zu beachten haben\, in welchen Fällen Preisänderungen und Abrechnungen rechtswidrig sein können und welche Möglichkeiten Verbraucher haben\, sich gegen solche zur Wehr zu setzen.
URL:https://klimaschutz-landkreis-neumarkt.de/veranstaltung/aktuelle-fragen-rund-um-energieliefervertraege-und-rechnungen/
LOCATION:Online
END:VEVENT
BEGIN:VEVENT
DTSTART;TZID=Europe/Berlin:20230317T100000
DTEND;TZID=Europe/Berlin:20230317T103000
DTSTAMP:20260423T061241
CREATED:20230217T121304Z
LAST-MODIFIED:20230217T121304Z
UID:3704-1679047200-1679049000@klimaschutz-landkreis-neumarkt.de
SUMMARY:Lebensmittelmüll vermeiden\, Verpackungen optimieren
DESCRIPTION:Ein Drittel der Lebensmittel gehen auf dem Weg vom Acker zum Teller verloren. Seit Jahren steigt die Menge an Verpackungen. Weniger ist mehr. Durch bewussten Einkauf lassen sich Lebensmittel- und Verpackungsmüll reduzieren und Kosten sparen.
URL:https://klimaschutz-landkreis-neumarkt.de/veranstaltung/lebensmittelmuell-vermeiden-verpackungen-optimieren/
LOCATION:Online
END:VEVENT
BEGIN:VEVENT
DTSTART;TZID=Europe/Berlin:20230316T183000
DTEND;TZID=Europe/Berlin:20230316T193000
DTSTAMP:20260423T061241
CREATED:20230217T121200Z
LAST-MODIFIED:20230217T121200Z
UID:3701-1678991400-1678995000@klimaschutz-landkreis-neumarkt.de
SUMMARY:Sprechstunde: Energiekrise – wie kann ich im eigenen Haushalt sparen?
DESCRIPTION:Von der Wäschepflege bis zum Kochen.
URL:https://klimaschutz-landkreis-neumarkt.de/veranstaltung/sprechstunde-energiekrise-wie-kann-ich-im-eigenen-haushalt-sparen/
LOCATION:Online
END:VEVENT
BEGIN:VEVENT
DTSTART;TZID=Europe/Berlin:20230316T143000
DTEND;TZID=Europe/Berlin:20230316T153000
DTSTAMP:20260423T061241
CREATED:20230217T121050Z
LAST-MODIFIED:20230217T121050Z
UID:3698-1678977000-1678980600@klimaschutz-landkreis-neumarkt.de
SUMMARY:Unterstützungsmöglichkeiten speziell für Mieter*innen
DESCRIPTION:Die Gruppe der Mieter*innen adressieren wir in diesem Vortrag speziell\, da sie sich im Hinblick auf die Energiekrise zahlreichen Belastungen ausgesetzt sehen\, die häufig mit zeitlicher Verzögerung\, dann aber um so heftiger bei ihnen ankommen.\nWir stellen Ihnen Unterstützungsmöglichkeiten vor und geben Tipps\, wie man Härten bereits im Vorfeld abmildern kann.
URL:https://klimaschutz-landkreis-neumarkt.de/veranstaltung/unterstuetzungsmoeglichkeiten-speziell-fuer-mieterinnen/
LOCATION:Online
END:VEVENT
BEGIN:VEVENT
DTSTART;TZID=Europe/Berlin:20230316T140000
DTEND;TZID=Europe/Berlin:20230316T153000
DTSTAMP:20260423T061241
CREATED:20230217T120932Z
LAST-MODIFIED:20230217T120932Z
UID:3695-1678975200-1678980600@klimaschutz-landkreis-neumarkt.de
SUMMARY:Impulse für Lehrkräfte: Die Energie-Ressourcen Wärme\, Wasser\, Strom
DESCRIPTION:Im Rahmen der Weltverbraucherwoche 2023 gibt der VerbraucherService Bayern interessierten Lehrkräften spannende Einblicke in das Wettbewerbsthema „Ressource Energie: Wärme\, Wasser\, Strom – was können wir tun?“. Im Fachvortrag informieren die Experten über unterschiedliche Energiequellen\, die Frage\, wie Gas oder Strom uns erreichen\, den Blick in die Zukunft erneuerbarer Energien\, Tipps für nachhaltigen Online-Konsum und Smart Home Systeme. Darüber hinaus steht das Team „Partnerschule“ für Rückfragen rund um das Programm\, Bearbeitungstipps und praktische Fragen zur Verfügung.\nDas Programm „Partnerschule Verbraucherbildung Bayern“ wurde zum Schuljahr 2015/2016 vom Verbraucherschutz- und Kultusministerium eingeführt. Träger der Initiative ist der in Bayern agierende und staatlich geförderte Verbraucherverband VerbraucherService Bayern im KDFB e.V. Mit ihrer Teilnahme eignen sich Schüler*innen wichtige Kompetenzen in den Bereichen Umwelt und Ernährung\, Finanzen und Konsum an. Dieses Wissen macht sie fit für ihren Alltag als Verbraucher*innen. Um möglichst nah an der Lebensrealität der Schüler*innen zu agieren\, fließen deshalb auch aktuelle Geschehnisse in die Themenauswahl ein – so stehen im Turnus 2022/2023 „Energie“ und „Ernährung“ im Fokus.\nTeilnahme und Termine im Turnus 2022/2023\nThemen 2022/2023\nRessource Energie: Wärme\, Wasser\, Strom – was können wir tun? (Wettbewerbsthema)\nLebensmittel regional oder aus aller Welt – was kommt auf den Tisch?\nOder ein freiwählbares Thema mit Verbraucherbezug.\nTermine 2022/2023\n01. März 2023: Anmeldeschluss\n01. Mai 2023: Einreichungsschluss\nWeitere Informationen finden Sie unter www.partnerschule-bayern.de\nAdd-on:\n(Für die Auszeichnung bearbeiten die teilnehmenden Schulen zwei (vorgegebene) Themen aus dem Bereich der Verbraucherbildung und reichen jeweils einen Beitrag in Form eines Plakats oder eines Videoclips ein.)
URL:https://klimaschutz-landkreis-neumarkt.de/veranstaltung/impulse-fuer-lehrkraefte-die-energie-ressourcen-waerme-wasser-strom/
LOCATION:Online
END:VEVENT
BEGIN:VEVENT
DTSTART;TZID=Europe/Berlin:20230316T100000
DTEND;TZID=Europe/Berlin:20230316T103000
DTSTAMP:20260423T061241
CREATED:20230217T120755Z
LAST-MODIFIED:20230217T120755Z
UID:3692-1678960800-1678962600@klimaschutz-landkreis-neumarkt.de
SUMMARY:Rohstoffe im Blick - Geräte unter der Lupe
DESCRIPTION:Die Herstellung unserer Elektro- und Elektronikgeräte verbraucht immer mehr an Ressourcen und Energie. Infolge der rasanten technischen Entwicklung entsprechen Geräte jedoch oft schon nach kurzer Zeit nicht mehr dem aktuellen Stand. Ersatzteile sind nicht vorhanden oder schwer lieferbar\, auch hohe Reparaturkosten verkürzen die Lebensdauer vieler Geräte. Eine immer schnellere Abfolge aus Kaufen\, Wegwerfen und erneutem Kaufen verbraucht wertvolle Rohstoffe und erhöht das Elektroschrottaufkommen. Die neue EU-Ökodesign-Richtline verspricht Abhilfe. Wie ist die aktuelle Gesetzeslage? Der Vortrag zeigt Möglichkeiten auf\, wie wir mit dem Einkauf Einfluss auf die Produktion nehmen können und Elektroschrott vermeiden.
URL:https://klimaschutz-landkreis-neumarkt.de/veranstaltung/rohstoffe-im-blick-geraete-unter-der-lupe/
LOCATION:Online
END:VEVENT
BEGIN:VEVENT
DTSTART;TZID=Europe/Berlin:20230315T193000
DTEND;TZID=Europe/Berlin:20230315T200000
DTSTAMP:20260423T061241
CREATED:20230217T120644Z
LAST-MODIFIED:20230217T120644Z
UID:3689-1678908600-1678910400@klimaschutz-landkreis-neumarkt.de
SUMMARY:Energiesparen im Alltag – Kleinvieh macht Mist
DESCRIPTION:Hier ist für jeden was mit dabei sein. Von der Raumtemperatursenkung\, über die Optimierung der Heizungssteuerung bis hin zu Themen der Mobilität.\nDie beste Energie ist die\, die man nicht verbraucht. Energiesparen im Alltag ist oft einfacher als man denkt. Es muss nicht immer mit großen Einschränkungen und Investitionen einhergehen. Der Energieberater Herr Wolfgang Kuchler zeigt Ihnen wie Sie mit simplen Maßnahmen und kleinen Verhaltensänderungen Ihren Geldbeutel und das Klima schonen.\nSie erhalten zahlreiche Tipps und Tricks wie Sie den Stromverbrauch in Ihrem Haushalt senken können\, Ihren Warmwasserverbrauch reduzieren und durch eine sparsame Heizungsregelung sowie kleine Maßnahmen am Gebäude Ihre Heizkosten drosseln. Ideen für einen geringeren Energieverbrauch beim Thema Mobilität runden den Vortrag ab.\nIm Anschluss können Sie über den Chat Fragen an den Referenten stellen.\nDer Vortrag ist sowohl für Mieter als auch für Hausbesitzer geeignet.
URL:https://klimaschutz-landkreis-neumarkt.de/veranstaltung/energiesparen-im-alltag-kleinvieh-macht-mist/
LOCATION:Online
END:VEVENT
BEGIN:VEVENT
DTSTART;TZID=Europe/Berlin:20230315T140000
DTEND;TZID=Europe/Berlin:20230315T150000
DTSTAMP:20260423T061241
CREATED:20230217T120522Z
LAST-MODIFIED:20230217T120522Z
UID:3686-1678888800-1678892400@klimaschutz-landkreis-neumarkt.de
SUMMARY:Nachhaltigkeit und Recht
DESCRIPTION:Verbraucher*innen können nicht nur mit einer nachhaltigen Lebensweise Energie sparen und das Klima schützen. Mindestens ebenso wichtig ist es\, dass sie durch ihre Wahlentscheidungen Einfluss auf die Politik nehmen.\nNachhaltigkeit muss seinen Niederschlag auch in Gesetzen finden.\nWir präsentieren die aktuelle Situation an Beispielen wie dem Lieferkettengesetz\, einer Updateverpflichtung oder dem Reparaturbonus und zeigen unsere Forderungen an Politik und Gesellschaft auf.\nAbschließend stellen wir Maßnahmen gegen die steigenden Mengen an (Plastik-)Verpackungen aus rechtlicher und Umweltsicht vor.
URL:https://klimaschutz-landkreis-neumarkt.de/veranstaltung/nachhaltigkeit-und-recht/
LOCATION:Online
END:VEVENT
BEGIN:VEVENT
DTSTART;TZID=Europe/Berlin:20230315T100000
DTEND;TZID=Europe/Berlin:20230315T103000
DTSTAMP:20260423T061241
CREATED:20230217T120409Z
LAST-MODIFIED:20230217T120409Z
UID:3683-1678874400-1678876200@klimaschutz-landkreis-neumarkt.de
SUMMARY:Rohstoffe im Blick – Gemeinsam mobil
DESCRIPTION:Im Arbeitsalltag und in der Freizeit legen wir täglich viele Wege zurück. Der damit verbundene Verbrauch an Ressourcen und Energie wirkt sich auf unsere Umwelt\, aber auch auf unseren Geldbeutel aus. Im Trend liegt die Wirtschaft des Teilens\, „Sharing-Economy“ genannt. Teilen\, leihen oder mieten sind im Verkehrssektor attraktive Gestaltungselemente. Wie umweltfreundlich ist dieser Trend? Was ist rechtlich zu beachten? Der Vortrag zeigt Möglichkeiten für eine nachhaltige und dennoch alltagstaugliche Mobilität auf.
URL:https://klimaschutz-landkreis-neumarkt.de/veranstaltung/rohstoffe-im-blick-gemeinsam-mobil/
LOCATION:Online
END:VEVENT
BEGIN:VEVENT
DTSTART;TZID=Europe/Berlin:20230314T183000
DTEND;TZID=Europe/Berlin:20230314T193000
DTSTAMP:20260423T061241
CREATED:20230217T120229Z
LAST-MODIFIED:20230217T120229Z
UID:3680-1678818600-1678822200@klimaschutz-landkreis-neumarkt.de
SUMMARY:Sprechstunde: Sie fragen – die Energieexperten antworten
DESCRIPTION:PV/ Solarthermie: Energie frei Haus – die Sonne und Sie lassen aus dem Traum Wirklichkeit werden! Die Energieberaterin Petra Herzog gibt Antworten auf Ihre Fragen zu den wichtigsten Rahmenbedingungen und die notwendigen Schritte für die Umsetzung. \nFörderungen für die energetische Sanierung 2023: BEG\, KfW\, BAFA und Co. Die Energieberaterin Petra Herzog gibt Antworten auf Ihre Fragen zu den wichtigsten aktuellen Förderprogrammen für die Gebäudesanierung. \n„Atmende Wände“: was passiert wenn ich dämme\, entsteht dann Schimmel? Die Energieberaterin Petra Herzog gibt Antworten auf Ihre Fragen zur Wirkungsweise und den Umsetzungsschritten von Gebäudedämmung. \nNachhaltiger Neubau: was bedeutet das? Die Energieberaterin Petra Herzog gibt Antworten auf Ihre Fragen zur aktuellen Förderung von nachhaltigen Neubauten und erläutert welche Kriterien dabei eine Rolle spielen.
URL:https://klimaschutz-landkreis-neumarkt.de/veranstaltung/sprechstunde-sie-fragen-die-energieexperten-antworten-2/
LOCATION:Online
END:VEVENT
BEGIN:VEVENT
DTSTART;TZID=Europe/Berlin:20230314T163000
DTEND;TZID=Europe/Berlin:20230314T173000
DTSTAMP:20260423T061241
CREATED:20230217T120103Z
LAST-MODIFIED:20230217T120103Z
UID:3677-1678811400-1678815000@klimaschutz-landkreis-neumarkt.de
SUMMARY:Gesunde Ernährung muss nicht teuer sein
DESCRIPTION:Gestiegene Lebensmittelpreise belasten zusätzlich zu den hohen Energiekosten die Haushaltskasse. Wie es dennoch möglich ist\, sich sowohl gesund zu ernähren als auch die Kosten im Blick zu haben erfahren Sie in diesem Vortrag. Sie erhalten praxisnahe Tipps zum kostengünstigen Einkauf\, der richtigen Lagerung und zeitsparendem Meal Prepping.
URL:https://klimaschutz-landkreis-neumarkt.de/veranstaltung/gesunde-ernaehrung-muss-nicht-teuer-sein/
LOCATION:Online
END:VEVENT
BEGIN:VEVENT
DTSTART;TZID=Europe/Berlin:20230314T140000
DTEND;TZID=Europe/Berlin:20230314T150000
DTSTAMP:20260423T061241
CREATED:20230217T115944Z
LAST-MODIFIED:20230217T115944Z
UID:3674-1678802400-1678806000@klimaschutz-landkreis-neumarkt.de
SUMMARY:Gesunde\, nachhaltige Ernährung - Planetary Health Diet – Sparpotential für mich?
DESCRIPTION:Unsere Ressourcen – global betrachtet sind knapp. Gerade auch bei der Produktion und Verwendung unserer Lebensmittel entstehen 30 Prozent der Treibhausgasemissionen und es werden 70 Prozent des Frischwassers verbraucht. Laut Experten ist das der größte Einzelfaktor\, der den Ressourcenverbrauch und die Umweltzerstörung beschleunigt. Eine Ernährungsweise\, die gleichermaßen gut für den Planeten als auch gesund für die Menschen ist sowie die wachsende Weltbevölkerung satt macht\, beschreibt die „Planetary Health Diet“.\nDamit können laut EAT-Lancet-Kommission bis zum Jahr 2050 geschätzte elf Millionen vorzeitige Todesfälle durch ernährungs(mit)bedingte Krankheiten verhindert und rund zehn Milliarden Menschen gesund und nachhaltig ernährt werden\, ohne die Erde zu zerstören. Jeder Einzelne kann dazu beitragen\, dem Ziel näher zu kommen.\nDurch eine gesunde Lebensmittelauswahl hin zu einem hohen Anteil pflanzlicher Produkte kann obendrein auch beim Einkauf der eigene Geldbeutel geschont werden.
URL:https://klimaschutz-landkreis-neumarkt.de/veranstaltung/gesunde-nachhaltige-ernaehrung-planetary-health-diet-sparpotential-fuer-mich/
LOCATION:Online
END:VEVENT
BEGIN:VEVENT
DTSTART;TZID=Europe/Berlin:20230314T100000
DTEND;TZID=Europe/Berlin:20230314T103000
DTSTAMP:20260423T061241
CREATED:20230217T115831Z
LAST-MODIFIED:20230217T115831Z
UID:3671-1678788000-1678789800@klimaschutz-landkreis-neumarkt.de
SUMMARY:Sparen beim Heizen – aber Schimmel vermeiden
DESCRIPTION:Sparen beim Heizen ist das Gebot der Stunde\, damit die Heizkosten nicht unbezahlbar werden. Bei allem Sparen darf man das Raumklima aber nicht aus dem Blick verlieren. Weniger heizen\, richtig lüften – damit es nicht zur Schimmelbildung kommt – erhalten Sie Tipps für ihren Haushalt.
URL:https://klimaschutz-landkreis-neumarkt.de/veranstaltung/sparen-beim-heizen-aber-schimmel-vermeiden/
LOCATION:Online
END:VEVENT
BEGIN:VEVENT
DTSTART;TZID=Europe/Berlin:20230313T183000
DTEND;TZID=Europe/Berlin:20230313T193000
DTSTAMP:20260423T061241
CREATED:20230217T115708Z
LAST-MODIFIED:20230217T115708Z
UID:3668-1678732200-1678735800@klimaschutz-landkreis-neumarkt.de
SUMMARY:Sprechstunde: Sie fragen – die Energieexperten antworten
DESCRIPTION:PV/ Solarthermie: Energie frei Haus – die Sonne und Sie lassen aus dem Traum Wirklichkeit werden! Die Energieberaterin Petra Herzog gibt Antworten auf Ihre Fragen zu den wichtigsten Rahmenbedingungen und die notwendigen Schritte für die Umsetzung. \nFörderungen für die energetische Sanierung 2023: BEG\, KfW\, BAFA und Co. Die Energieberaterin Petra Herzog gibt Antworten auf Ihre Fragen zu den wichtigsten aktuellen Förderprogrammen für die Gebäudesanierung. \n„Atmende Wände“: was passiert wenn ich dämme\, entsteht dann Schimmel? Die Energieberaterin Petra Herzog gibt Antworten auf Ihre Fragen zur Wirkungsweise und den Umsetzungsschritten von Gebäudedämmung. \nNachhaltiger Neubau: was bedeutet das? Die Energieberaterin Petra Herzog gibt Antworten auf Ihre Fragen zur aktuellen Förderung von nachhaltigen Neubauten und erläutert welche Kriterien dabei eine Rolle spielen.
URL:https://klimaschutz-landkreis-neumarkt.de/veranstaltung/sprechstunde-sie-fragen-die-energieexperten-antworten/
LOCATION:Online
END:VEVENT
BEGIN:VEVENT
DTSTART;TZID=Europe/Berlin:20230313T163000
DTEND;TZID=Europe/Berlin:20230313T173000
DTSTAMP:20260423T061241
CREATED:20230217T115549Z
LAST-MODIFIED:20230217T115549Z
UID:3665-1678725000-1678728600@klimaschutz-landkreis-neumarkt.de
SUMMARY:Betriebskostenabrechnung verstehen
DESCRIPTION:Mieter und Mieterinnen erhalten jährlich ihre Betriebskostenabrechnung. Häufig wird eine Nachzahlung gefordert. Um die Abrechnung prüfen zu können\, ist es erforderlich diese auch nachvollziehen zu können. Am Beispiel einer Heiz- und Nebenkostenabrechnung wird diese erläutert und auf mögliche Fehlerquellen hingewiesen.
URL:https://klimaschutz-landkreis-neumarkt.de/veranstaltung/betriebskostenabrechnung-verstehen/
LOCATION:Online
END:VEVENT
BEGIN:VEVENT
DTSTART;TZID=Europe/Berlin:20230313T140000
DTEND;TZID=Europe/Berlin:20230313T151500
DTSTAMP:20260423T061241
CREATED:20230217T115430Z
LAST-MODIFIED:20230217T115430Z
UID:3662-1678716000-1678720500@klimaschutz-landkreis-neumarkt.de
SUMMARY:Photovoltaik auf dem Dach – Geld auf dem Konto
DESCRIPTION:Der Solarstrom vom eigenen Dach hat viele Vorteile. Man spart an Stromkosten\, nutzt die eigene grüne Energie und ist unabhängiger von den Turbulenzen an den Rohstoffmärkten.\nWann lohnt sich der Umstieg auf Solarenergie? Welche PV- Anlage ist die richtige für das Dach und wie rentabel funktioniert es?\nSeit Januar 2023 gibt es neue Fördersätze und steuerliche Änderungen. Sie haben die Wahl\, den Strom komplett ins Netz einzuspeisen oder einen Teil davon selbst zu nutzen. Lohnt sich die Eigenversorgung oder eher die Volleinspeisung?\nFür Mieter gibt es die alternative PV Anlage für den Balkon\, für Hauseigentümer*innen die Solarthermie. Mit einer gemieteten PV-Anlage können Immobilieneigentümer*innen oder Anleger*innen hohe Investitionskosten vermeiden\, Geld verdienen und gutes für die Umwelt tun.\nInformationen über die Vorteile und Nachteile der unterschiedlichen Optionen der Solarstrom/-therme-Produktion\, was Sie vor dem Kauf/Mietvertrag überlegen sollten und Wissenswertes zu der Wirtschaftlichkeit PV -Anlagen erhalten Sie von der Referentin.
URL:https://klimaschutz-landkreis-neumarkt.de/veranstaltung/photovoltaik-auf-dem-dach-geld-auf-dem-konto/
LOCATION:Online
END:VEVENT
BEGIN:VEVENT
DTSTART;TZID=Europe/Berlin:20230313T100000
DTEND;TZID=Europe/Berlin:20230313T103000
DTSTAMP:20260423T061241
CREATED:20230217T115257Z
LAST-MODIFIED:20230217T115257Z
UID:3659-1678701600-1678703400@klimaschutz-landkreis-neumarkt.de
SUMMARY:Stromsparen im Haushalt – Tipps für den Alltag
DESCRIPTION:Gestiegene Strom- und Heizkosten sowie Spritpreise belasten die Haushaltskasse enorm. Die Kosten sind kaum zu kalkulieren und bereiten vielen Menschen Sorgen. Großen Investitionen wie eine Fassadendämmung oder eine neue Heizung können sich aber nicht alle Menschen leisten.\nDoch schon kleine Maßnahmen im Haushalt tragen dazu bei\, dass weniger Strom verbraucht wird. Der Vortrag informiert\, wie in den einzelnen Wohnbereichen kleine Verhaltensänderungen zu Einsparungen führen können\, die sich am Geldbeutel bemerkbar machen und gleichzeitig einen Beitrag zum Klimaschutz leisten.
URL:https://klimaschutz-landkreis-neumarkt.de/veranstaltung/stromsparen-im-haushalt-tipps-fuer-den-alltag/
LOCATION:Online
END:VEVENT
BEGIN:VEVENT
DTSTART;TZID=Europe/Berlin:20230308T190000
DTEND;TZID=Europe/Berlin:20230308T203000
DTSTAMP:20260423T061241
CREATED:20230217T150110Z
LAST-MODIFIED:20230217T150110Z
UID:3712-1678302000-1678307400@klimaschutz-landkreis-neumarkt.de
SUMMARY:Neue Wärmepumpe? Lärmbelästigung von Anfang an vermeiden!
DESCRIPTION:Der Energieberater\, Dip.-Ing. (FH) Hans-Peter Schmitt erklärt in einem Kurzvortrag die Vorgehensweise\, wie Lärmprobleme speziell bei der Aufstellung von Luft-Wasser-Wärmepumpen schon bei der Planung vermieden werden können. Die Lärmentwicklung und Emissionsbelastung von Wärmepumpen werden im Rahmen der Vorgaben der Baunutzungsverordnung und der aktuellen Lärmschutzvorgaben eingeordnet und anhand von Beispielen gezeigt. Nach dem Kurzvortrag haben die Teilnehmer eine Stunde Zeit individuelle Fragen zu stellen. Die Energiesprechstunde ist auf 20 Teilnehmer begrenzt.\nDer Vortrag ist für Haus- und Wohnungsbesitzer geeignet. Grundkenntnisse sind nicht erforderlich.
URL:https://klimaschutz-landkreis-neumarkt.de/veranstaltung/neue-waermepumpe-laermbelaestigung-von-anfang-an-vermeiden-2/
LOCATION:Online
END:VEVENT
BEGIN:VEVENT
DTSTART;TZID=Europe/Berlin:20221103T190000
DTEND;TZID=Europe/Berlin:20221103T203000
DTSTAMP:20260423T061241
CREATED:20220810T101544Z
LAST-MODIFIED:20220810T101544Z
UID:2613-1667502000-1667507400@klimaschutz-landkreis-neumarkt.de
SUMMARY:Heizlastberechnung – optimale Planung der Heizungsanlage
DESCRIPTION:Der Energieberater\, Dip.-Ing. (FH) Herr Hans-Peter Schmitt hält einen 20-minütigen Impulsvortrag zu Möglichkeiten der Ermittlung von Gebäude- und Raumheizlasten. Er erläutert die Notwendigkeit dieser Berechnung zur Dimensionierung von Wärmeerzeugern und Auslegung von Heizkörpern und Heizflächen anhand von einfachen Beispielen.\nNach dem Impulsvortrag haben die Teilnehmer eine Stunde Zeit\, individuelle Fragen zu stellen. Die Energiesprechstunde ist auf 20 Teilnehmer begrenzt. \n  \nAnmeldelink: Warenkorb / Bestellung – VerbraucherService Bayern (verbraucherservice-bayern.de) \n 
URL:https://klimaschutz-landkreis-neumarkt.de/veranstaltung/heizlastberechnung-optimale-planung-der-heizungsanlage/
LOCATION:Online
END:VEVENT
BEGIN:VEVENT
DTSTART;TZID=Europe/Berlin:20221006T190000
DTEND;TZID=Europe/Berlin:20221006T203000
DTSTAMP:20260423T061241
CREATED:20220810T100816Z
LAST-MODIFIED:20220819T090726Z
UID:2610-1665082800-1665088200@klimaschutz-landkreis-neumarkt.de
SUMMARY:Neue Wärmepumpe? Lärmbelästigung von Anfang an vermeiden
DESCRIPTION:Die Energiesprechstunde startet mit einem kurzen Impulsvortrag. Der Energieberater\, Dip.-Ing. (FH) Hans-Peter Schmitt erklärt die Vorgehensweise\, wie Lärmprobleme speziell bei der Aufstellung von Luft-Wasser-Wärmepumpen schon bei der Planung vermieden werden können. Die Lärmentwicklung und Emissionsbelastung von Wärmepumpen werden im Rahmen der Vorgaben der Baunutzungsverordnung und der aktuellen Lärmschutzvorgaben eingeordnet und anhand von Beispielen gezeigt. Nach dem Impulsvortrag haben die Teilnehmer eine Stunde Zeit\, individuelle Fragen zu stellen. Die Energiesprechstunde ist auf 20 Teilnehmer begrenzt. \n  \nAnmeldelink: www.verbraucherservice-bayern.de/termine/EN-1-2022-0080 \n 
URL:https://klimaschutz-landkreis-neumarkt.de/veranstaltung/neue-waermepumpe-laermbelaestigung-von-anfang-an-vermeiden/
LOCATION:Online
END:VEVENT
BEGIN:VEVENT
DTSTART;TZID=Europe/Berlin:20220912T190000
DTEND;TZID=Europe/Berlin:20220912T203000
DTSTAMP:20260423T061241
CREATED:20220825T222726Z
LAST-MODIFIED:20220825T222726Z
UID:2675-1663009200-1663014600@klimaschutz-landkreis-neumarkt.de
SUMMARY:Energiesparen im Alltag - Auch Kleinvieh macht Mist!
DESCRIPTION:Kostenfreier Online-Vortrag der Energieberatung des VerbraucherService Bayern  \n  \nAus gegebenem Anlass bietet der VerbraucherService Bayern einen kostenfreien Online-Vortrag zum Thema „Energiesparen im Alltag“ am 12. September 2022 von 19:00 bis 20:30 Uhr an. Der Energieberater Wolfgang Kuchler zeigt auf\, wie mit simplen Maßnahmen und kleinen Verhaltensänderungen Geldbeutel und Klima geschont werden. Bürger erhalten zahlreiche Tipps\, wie Sie den Stromverbrauch im Haushalt senken\, den Warmwasserverbrauch reduzieren und durch sparsame Heizungsregelung sowie kleine Maßnahmen am Gebäude Heizkosten drosseln können. Das Thema „Mobilität mit geringerem Verbrauch“ rundet den Vortrag ab. Fragen an den Referenten sind jederzeit über den Chat möglich. \n  \nOnline-Vortrag (kostenfrei): Energiesparen im Alltag – Auch Kleinvieh macht Mist \nWann: Montag\, 12. September 2022 von 19:00 – 20:30 Uhr \nLink zur Anmeldung: www.verbraucherservice-bayern.de/termine/EN-1-2022-0096
URL:https://klimaschutz-landkreis-neumarkt.de/veranstaltung/energiesparen-im-alltag-auch-kleinvieh-macht-mist/
LOCATION:Online
END:VEVENT
BEGIN:VEVENT
DTSTART;TZID=Europe/Berlin:20220906T180000
DTEND;TZID=Europe/Berlin:20220906T193000
DTSTAMP:20260423T061241
CREATED:20220810T100130Z
LAST-MODIFIED:20220810T100130Z
UID:2604-1662487200-1662492600@klimaschutz-landkreis-neumarkt.de
SUMMARY:Strom aus der Sonne – So funktioniert‘s
DESCRIPTION:Sonnenenergie lässt sich in vielen Haushalten sinnvoll einsetzen. Eine Photovoltaikanlage auf dem Haus- oder Garagendach senkt die eigenen Kosten für Strom und bedeutet für Hausbesitzer: innen einen Beitrag zum Klimaschutz sowie einen entscheidenden Schritt in Richtung Unabhängigkeit von Energieversorgern. Das gilt nicht nur für Neubauten\, sondern auch für ältere Häuser. \nWie die Technik funktioniert\, für wen sie geeignet ist und was man sonst noch zu beachten hat\, erklärt Ihnen der Energieberater B. Eng Christian Winterhalter. \n  \nAnmeldelink: www.verbraucherservice-bayern.de/termine/EN-1-2022-0091
URL:https://klimaschutz-landkreis-neumarkt.de/veranstaltung/strom-aus-der-sonne-so-funktionierts/
LOCATION:Online
END:VEVENT
BEGIN:VEVENT
DTSTART;TZID=Europe/Berlin:20220829T200000
DTEND;TZID=Europe/Berlin:20220829T213000
DTSTAMP:20260423T061241
CREATED:20220810T095758Z
LAST-MODIFIED:20220810T095758Z
UID:2600-1661803200-1661808600@klimaschutz-landkreis-neumarkt.de
SUMMARY:Förderprogramme für effiziente Gebäude sinnvoll nutzen. Was bedeuten die aktuellen Kürzungen für mich?
DESCRIPTION:Am 28. Juli 2022 informierte das Bundesministerium für Wirtschaft und Klimaschutz über die anstehenden Kürzungen der Bundesförderung für effiziente Gebäude (BEG). Planen Sie mit Maßnahmen wie Heizungsoptimierung\, Wärmedämmung\, der Nutzung von erneuerbaren Energien oder der Sanierung zu einem Effizienzhaus den Energieverbrauch ihrer Immobilie zu senken und so maßgeblich zum Klimaschutz beizutragen? Ob und in welcher Höhe Sie Fördermittel weiterhin als Zuschussvariante oder als vergünstigtes Darlehen beantragen können\, erläutert Ihnen Matthias Obermeier\, langjähriger Energieberater des VerbraucherService Bayern. Er informiert über die aktuellen Kürzungen\, erklärt\, was Sie bei der Beantragung beachten müssen und veranschaulicht die möglichen Förderungen an Rechenbeispielen. \nDer Vortrag richtet sich vorwiegend an Hauseigentümer. Vorkenntnisse sind nicht erforderlich. \n  \nAnmeldelink: www.verbraucherservice-bayern.de/termine/EN-1-2022-0095
URL:https://klimaschutz-landkreis-neumarkt.de/veranstaltung/foerderprogramme-fuer-effiziente-gebaeude-sinnvoll-nutzen-was-bedeuten-die-aktuellen-kuerzungen-fuer-mich/
LOCATION:Online
END:VEVENT
END:VCALENDAR